{
 "currentVersion": 10.91,
 "serviceDescription": "Imagery Service for Swiper App - allowing view of 1980 Banff",
 "name": "Swiper/Imagery_1980",
 "description": "Imagery Service for Swiper App - allowing view of 1980 Banff",
 "extent": {
  "xmin": 599099.5349220755,
  "ymin": 5671412.90834837,
  "xmax": 602888.3030094551,
  "ymax": 5672617.706108885,
  "spatialReference": {
   "wkid": 26911,
   "latestWkid": 26911
  }
 },
 "initialExtent": {
  "xmin": 599099.5349220755,
  "ymin": 5671412.90834837,
  "xmax": 602888.3030094551,
  "ymax": 5672617.706108885,
  "spatialReference": {
   "wkid": 26911,
   "latestWkid": 26911
  }
 },
 "fullExtent": {
  "xmin": 599099.5349220755,
  "ymin": 5671412.90834837,
  "xmax": 602888.3030094551,
  "ymax": 5672617.706108885,
  "spatialReference": {
   "wkid": 26911,
   "latestWkid": 26911
  }
 },
 "hasMultidimensions": false,
 "pixelSizeX": 0.04246831312775612,
 "pixelSizeY": 0.0426794346421957,
 "datasetFormat": "SDR",
 "uncompressedSize": 2518422006,
 "blockWidth": 128,
 "blockHeight": 128,
 "compressionType": "LZ77",
 "bandNames": [
  "Band_1"
 ],
 "allowCopy": true,
 "allowAnalysis": true,
 "bandCount": 1,
 "pixelType": "U8",
 "minPixelSize": 0,
 "maxPixelSize": 0,
 "copyrightText": "Town of Banff GIS",
 "serviceDataType": "esriImageServiceDataTypeGeneric",
 "serviceSourceType": "esriImageServiceSourceTypeDataset",
 "minValues": [
  0
 ],
 "maxValues": [
  255
 ],
 "meanValues": [
  17.651714454164736
 ],
 "stdvValues": [
  64.72715257490354
 ],
 "objectIdField": "",
 "fields": [],
 "capabilities": "Image,Metadata,Mensuration",
 "defaultMosaicMethod": "Center",
 "allowedMosaicMethods": "",
 "sortField": "",
 "sortValue": null,
 "sortAscending": true,
 "mosaicOperator": "First",
 "defaultCompressionQuality": 75,
 "defaultResamplingMethod": "Bilinear",
 "maxImageHeight": 4100,
 "maxImageWidth": 15000,
 "allowRasterFunction": true,
 "rasterFunctionInfos": [
  {
   "name": "None",
   "description": "",
   "help": ""
  }
 ],
 "rasterTypeInfos": [
  {
   "name": "Raster Dataset",
   "description": "Supports all ArcGIS Raster Datasets",
   "help": ""
  }
 ],
 "mensurationCapabilities": "Basic",
 "hasHistograms": true,
 "hasColormap": false,
 "hasRasterAttributeTable": false,
 "minScale": 0,
 "maxScale": 0,
 "exportTilesAllowed": false,
 "supportsStatistics": false,
 "supportsAdvancedQueries": false,
 "editFieldsInfo": null,
 "ownershipBasedAccessControlForRasters": null,
 "allowComputeTiePoints": false,
 "useStandardizedQueries": true,
 "advancedQueryCapabilities": {
  "useStandardizedQueries": true,
  "supportsStatistics": false,
  "supportsOrderBy": false,
  "supportsDistinct": false,
  "supportsPagination": false
 },
 "spatialReference": {
  "wkid": 26911,
  "latestWkid": 26911
 }
}
