View In:
ArcGIS JavaScript
ArcGIS Online Map Viewer
ArcGIS Earth
ArcMap
View Footprint In:
ArcGIS Online Map Viewer
Service Description: Imagery Service for Swiper App - allowing view of 1980 Banff
Name: Swiper/Imagery_1980
Description: Imagery Service for Swiper App - allowing view of 1980 Banff
Single Fused Map Cache: false
Extent:
XMin: 599099.5349220755
YMin: 5671412.90834837
XMax: 602888.3030094551
YMax: 5672617.706108885
Spatial Reference: 26911
(26911)
LatestVCSWkid(0)
Initial Extent:
XMin: 599099.5349220755
YMin: 5671412.90834837
XMax: 602888.3030094551
YMax: 5672617.706108885
Spatial Reference: 26911
(26911)
LatestVCSWkid(0)
Full Extent:
XMin: 599099.5349220755
YMin: 5671412.90834837
XMax: 602888.3030094551
YMax: 5672617.706108885
Spatial Reference: 26911
(26911)
LatestVCSWkid(0)
Pixel Size X: 0.04246831312775612
Pixel Size Y: 0.0426794346421957
Band Count: 1
Pixel Type: U8
RasterFunction Infos: {"rasterFunctionInfos": [{
"name": "None",
"description": "",
"help": ""
}]}
Mensuration Capabilities: Basic
Has Histograms: true
Has Colormap: false
Has Multi Dimensions : false
Rendering Rule:
Min Scale: 0
Max Scale: 0
Copyright Text: Town of Banff GIS
Service Data Type: esriImageServiceDataTypeGeneric
Min Values: 0
Max Values: 255
Mean Values: 17.651714454164736
Standard Deviation Values: 64.72715257490354
Object ID Field:
Fields:
None
Default Mosaic Method: Center
Allowed Mosaic Methods:
SortField:
SortValue: null
Mosaic Operator: First
Default Compression Quality: 75
Default Resampling Method: Bilinear
Max Record Count: null
Max Image Height: 4100
Max Image Width: 15000
Max Download Image Count: null
Max Mosaic Image Count: null
Allow Raster Function: true
Allow Copy: true
Allow Analysis: true
Allow Compute TiePoints: false
Supports Statistics: false
Supports Advanced Queries: false
Use StandardizedQueries: true
Raster Type Infos:
Name: Raster Dataset
Description: Supports all ArcGIS Raster Datasets
Help:
Has Raster Attribute Table: false
Edit Fields Info: null
Ownership Based AccessControl For Rasters: null
Child Resources:
Info
Histograms
Statistics
Key Properties
Legend
Raster Function Infos
Supported Operations:
Export Image
Identify
Measure
Compute Histograms
Compute Statistics Histograms
Get Samples
Compute Class Statistics
Query Boundary
Compute Pixel Location
Compute Angles
Validate
Project